Index of /checkResults/release/bioc-LATEST/mzR/raw-results

[ICO]NameLast modifiedSizeDescription

[DIR]Parent Directory  -  
[DIR]machv2/15-Jan-2022 03:08 -  
[DIR]nebbiolo2/15-Jan-2022 03:05 -  
[DIR]tokay2/15-Jan-2022 03:06 -  
[   ]info.dcf15-Jan-2022 03:08 267