Index of /checkResults/release/bioc-LATEST/myvariant/raw-results/merida1

[ICO]NameLast modifiedSizeDescription

[DIR]Parent Directory  -  
[   ]install-summary.dcf17-Jul-2024 06:41 273  
[TXT]install-out.txt17-Jul-2024 06:41 1.0K 
[   ]checksrc-summary.dcf17-Jul-2024 06:41 452  
[TXT]checksrc-out.txt17-Jul-2024 06:41 4.8K 
[   ]buildsrc-summary.dcf17-Jul-2024 06:41 434  
[TXT]buildsrc-out.txt17-Jul-2024 06:41 824  
[   ]buildbin-summary.dcf17-Jul-2024 06:41 540  
[TXT]buildbin-out.txt17-Jul-2024 06:41 1.2K