Name | Last modified | Size | Description | |
---|---|---|---|---|
Parent Directory | - | |||
buildbin-out.txt | 12-Jun-2024 03:42 | 1.2K | ||
buildbin-summary.dcf | 12-Jun-2024 03:42 | 542 | ||
buildsrc-out.txt | 12-Jun-2024 03:42 | 824 | ||
buildsrc-summary.dcf | 12-Jun-2024 03:42 | 433 | ||
checksrc-out.txt | 12-Jun-2024 03:42 | 4.8K | ||
checksrc-summary.dcf | 12-Jun-2024 03:42 | 452 | ||
install-out.txt | 12-Jun-2024 03:42 | 1.0K | ||
install-summary.dcf | 12-Jun-2024 03:42 | 273 | ||