Index of /checkResults/release/bioc-LATEST/mumosa/raw-results/riesling1

[ICO]NameLast modifiedSizeDescription

[DIR]Parent Directory  -  
[TXT]buildbin-out.txt19-Mar-2022 00:08 1.5K 
[   ]buildbin-summary.dcf19-Mar-2022 00:08 506  
[TXT]buildsrc-out.txt19-Mar-2022 00:08 833  
[   ]buildsrc-summary.dcf19-Mar-2022 00:08 447  
[TXT]checksrc-out.txt19-Mar-2022 00:08 3.2K 
[   ]checksrc-summary.dcf19-Mar-2022 00:08 441  
[TXT]install-out.txt19-Mar-2022 00:08 1.7K 
[   ]install-summary.dcf19-Mar-2022 00:08 265