Index of /checkResults/release/bioc-LATEST/mumosa/raw-results/palomino3

[ICO]NameLast modifiedSizeDescription

[DIR]Parent Directory  -  
[TXT]buildbin-out.txt25-Jun-2022 01:06 1.1K 
[   ]buildbin-summary.dcf25-Jun-2022 01:06 506  
[TXT]buildsrc-out.txt25-Jun-2022 01:06 833  
[   ]buildsrc-summary.dcf25-Jun-2022 01:06 447  
[TXT]checksrc-out.txt25-Jun-2022 01:06 3.2K 
[   ]checksrc-summary.dcf25-Jun-2022 01:06 441  
[TXT]install-out.txt25-Jun-2022 01:06 950  
[   ]install-summary.dcf25-Jun-2022 01:06 265