Back to Multiple platform build/check report for BioC 3.14
ABCDEFGHIJKL[M]NOPQRSTUVWXYZ

This page was generated on 2021-12-03 13:05:55 -0500 (Fri, 03 Dec 2021).

BUILD BIN results for mumosa on machv2

To the developers/maintainers of the mumosa package:
- Please allow up to 24 hours (and sometimes 48 hours) for your latest push to git@git.bioconductor.org:packages/mumosa.git to
reflect on this report. See How and When does the builder pull? When will my changes propagate? here for more information.
- Make sure to use the following settings in order to reproduce any error or warning you see on this page.

raw results

Package 1251/2083HostnameOS / ArchINSTALLBUILDCHECKBUILD BIN
mumosa 1.2.0  (landing page)
Aaron Lun
Snapshot Date: 2021-12-02 01:55:06 -0500 (Thu, 02 Dec 2021)
git_url: https://git.bioconductor.org/packages/mumosa
git_branch: RELEASE_3_14
git_last_commit: 8c9f2e8
git_last_commit_date: 2021-10-26 13:05:57 -0500 (Tue, 26 Oct 2021)
nebbiolo2Linux (Ubuntu 20.04.3 LTS) / x86_64  OK    OK    OK  UNNEEDED, same version is already published
tokay2Windows Server 2012 R2 Standard / x64  OK    OK    OK    OK  UNNEEDED, same version is already published
machv2macOS 10.14.6 Mojave / x86_64  OK    OK    OK    OK  UNNEEDED, same version is already published

Summary

Package: mumosa
Version: 1.2.0
Command: rm -rf mumosa.buildbin-libdir && mkdir mumosa.buildbin-libdir && /Users/biocbuild/BBS/utils/build-universal.sh mumosa_1.2.0.tar.gz /Library/Frameworks/R.framework/Resources/bin/R mumosa.buildbin-libdir
StartedAt: 2021-12-02 23:00:04 -0500 (Thu, 02 Dec 2021)
EndedAt: 2021-12-02 23:01:13 -0500 (Thu, 02 Dec 2021)
EllapsedTime: 69.2 seconds
RetCode: 0
Status:   OK  
PackageFile: mumosa_1.2.0.tgz
PackageFileSize: 670.3 KiB

Command output

##############################################################################
##############################################################################
###
### Running command:
###
###   rm -rf mumosa.buildbin-libdir && mkdir mumosa.buildbin-libdir && /Users/biocbuild/BBS/utils/build-universal.sh mumosa_1.2.0.tar.gz /Library/Frameworks/R.framework/Resources/bin/R mumosa.buildbin-libdir
###
##############################################################################
##############################################################################


>>>>>>> 
>>>>>>> INSTALLATION WITH 'R CMD INSTALL --preclean --no-multiarch --library=mumosa.buildbin-libdir mumosa_1.2.0.tar.gz'
>>>>>>> 

* installing *source* package ‘mumosa’ ...
** using staged installation
** R
** inst
** byte-compile and prepare package for lazy loading
** help
*** installing help indices
** building package indices
** installing vignettes
** testing if installed package can be loaded from temporary location
** testing if installed package can be loaded from final location
** testing if installed package keeps a record of temporary installation path
* DONE (mumosa)