Name | Last modified | Size | Description | |
---|---|---|---|---|
Parent Directory | - | |||
buildbin-out.txt | 29-Jun-2024 06:42 | 1.9K | ||
buildbin-summary.dcf | 29-Jun-2024 06:42 | 526 | ||
buildsrc-out.txt | 29-Jun-2024 06:42 | 941 | ||
buildsrc-summary.dcf | 29-Jun-2024 06:42 | 460 | ||
checksrc-out.txt | 29-Jun-2024 06:42 | 5.6K | ||
checksrc-summary.dcf | 29-Jun-2024 06:42 | 454 | ||
install-out.txt | 29-Jun-2024 06:42 | 1.7K | ||
install-summary.dcf | 29-Jun-2024 06:42 | 272 | ||