Name | Last modified | Size | Description | |
---|---|---|---|---|
Parent Directory | - | |||
buildbin-out.txt | 24-Jul-2024 22:04 | 1.1K | ||
buildbin-summary.dcf | 24-Jul-2024 22:04 | 539 | ||
buildsrc-out.txt | 24-Jul-2024 22:04 | 896 | ||
buildsrc-summary.dcf | 24-Jul-2024 22:04 | 469 | ||
checksrc-out.txt | 24-Jul-2024 22:04 | 3.5K | ||
checksrc-summary.dcf | 24-Jul-2024 22:04 | 463 | ||
install-out.txt | 24-Jul-2024 22:04 | 1.0K | ||
install-summary.dcf | 24-Jul-2024 22:04 | 276 | ||