Back to Multiple platform build/check report for BioC 3.15
ABCDEFGHIJKL[M]NOPQRSTUVWXYZ

This page was generated on 2022-08-03 13:21:59 -0400 (Wed, 03 Aug 2022).

HostnameOSArch (*)R versionInstalled pkgs
nebbiolo1Linux (Ubuntu 20.04.4 LTS)x86_644.2.1 (2022-06-23) -- "Funny-Looking Kid" 4361
palomino3Windows Server 2022 Datacenterx644.2.1 (2022-06-23 ucrt) -- "Funny-Looking Kid" 4114
merida1macOS 10.14.6 Mojavex86_644.2.1 (2022-06-23) -- "Funny-Looking Kid" 4179
Click on any hostname to see more info about the system (e.g. compilers)      (*) as reported by 'uname -p', except on Windows and Mac OS X

BUILD results for multicrispr on palomino3


To the developers/maintainers of the multicrispr package:
- Please allow up to 24 hours (and sometimes 48 hours) for your latest push to git@git.bioconductor.org:packages/multicrispr.git to
reflect on this report. See How and When does the builder pull? When will my changes propagate? for more information.
- Make sure to use the following settings in order to reproduce any error or warning you see on this page.

raw results

Package 1273/2140HostnameOS / ArchINSTALLBUILDCHECKBUILD BIN
multicrispr 1.6.0  (landing page)
Aditya Bhagwat
Snapshot Date: 2022-08-02 13:55:13 -0400 (Tue, 02 Aug 2022)
git_url: https://git.bioconductor.org/packages/multicrispr
git_branch: RELEASE_3_15
git_last_commit: 0f3e6be
git_last_commit_date: 2022-04-26 12:05:55 -0400 (Tue, 26 Apr 2022)
nebbiolo1Linux (Ubuntu 20.04.4 LTS) / x86_64  OK    OK    OK  UNNEEDED, same version is already published
palomino3Windows Server 2022 Datacenter / x64  OK    OK    OK    OK  UNNEEDED, same version is already published
merida1macOS 10.14.6 Mojave / x86_64  OK    OK    OK    OK  UNNEEDED, same version is already published

Summary

Package: multicrispr
Version: 1.6.0
Command: chmod a+r multicrispr -R && F:\biocbuild\bbs-3.15-bioc\R\bin\R.exe CMD build --keep-empty-dirs --no-resave-data multicrispr
StartedAt: 2022-08-02 19:38:21 -0400 (Tue, 02 Aug 2022)
EndedAt: 2022-08-02 19:40:19 -0400 (Tue, 02 Aug 2022)
EllapsedTime: 118.4 seconds
RetCode: 0
Status:   OK  
PackageFile: multicrispr_1.6.0.tar.gz
PackageFileSize: 1.964 MiB

Command output

##############################################################################
##############################################################################
###
### Running command:
###
###   chmod a+r multicrispr -R && F:\biocbuild\bbs-3.15-bioc\R\bin\R.exe CMD build --keep-empty-dirs --no-resave-data multicrispr
###
##############################################################################
##############################################################################


* checking for file 'multicrispr/DESCRIPTION' ... OK
* preparing 'multicrispr':
* checking DESCRIPTION meta-information ... OK
* installing the package to build vignettes
* creating vignettes ... OK
* checking for LF line-endings in source and make files and shell scripts
* checking for empty or unneeded directories
Omitted 'LazyData' from DESCRIPTION
* building 'multicrispr_1.6.0.tar.gz'