![]() | Name | Last modified | Size | Description |
---|---|---|---|---|
![]() | Parent Directory | - | ||
![]() | buildsrc-out.txt | 05-Oct-2023 00:35 | 880 | |
![]() | buildsrc-summary.dcf | 05-Oct-2023 00:35 | 424 | |
![]() | checksrc-out.txt | 05-Oct-2023 00:35 | 4.7K | |
![]() | checksrc-summary.dcf | 05-Oct-2023 00:35 | 428 | |
![]() | install-out.txt | 05-Oct-2023 00:35 | 969 | |
![]() | install-summary.dcf | 05-Oct-2023 00:35 | 264 | |