![]() | Name | Last modified | Size | Description |
---|---|---|---|---|
![]() | Parent Directory | - | ||
![]() | buildbin-out.txt | 03-Oct-2023 00:37 | 1.2K | |
![]() | buildbin-summary.dcf | 03-Oct-2023 00:37 | 546 | |
![]() | buildsrc-out.txt | 03-Oct-2023 00:37 | 890 | |
![]() | buildsrc-summary.dcf | 03-Oct-2023 00:37 | 435 | |
![]() | checksrc-out.txt | 03-Oct-2023 00:37 | 4.6K | |
![]() | checksrc-summary.dcf | 03-Oct-2023 00:37 | 458 | |
![]() | install-out.txt | 03-Oct-2023 00:37 | 1.0K | |
![]() | install-summary.dcf | 03-Oct-2023 00:37 | 275 | |