Name | Last modified | Size | Description | |
---|---|---|---|---|
Parent Directory | - | |||
buildsrc-out.txt | 12-Jun-2024 03:39 | 858 | ||
buildsrc-summary.dcf | 12-Jun-2024 03:39 | 425 | ||
checksrc-out.txt | 12-Jun-2024 03:39 | 3.1K | ||
checksrc-summary.dcf | 12-Jun-2024 03:39 | 425 | ||
install-out.txt | 12-Jun-2024 03:39 | 961 | ||
install-summary.dcf | 12-Jun-2024 03:39 | 264 | ||