Name | Last modified | Size | Description | |
---|---|---|---|---|
Parent Directory | - | |||
install-summary.dcf | 12-Jun-2024 03:39 | 263 | ||
checksrc-summary.dcf | 12-Jun-2024 03:39 | 422 | ||
buildsrc-summary.dcf | 12-Jun-2024 03:39 | 423 | ||
buildsrc-out.txt | 12-Jun-2024 03:39 | 877 | ||
install-out.txt | 12-Jun-2024 03:39 | 958 | ||
checksrc-out.txt | 12-Jun-2024 03:39 | 5.6K | ||