Back to Multiple platform build/check report for BioC 3.12
ABCDEFGHIJKL[M]NOPQRSTUVWXYZ

Multiple platform build/check report for BioC 3.12

Results for package msmsTests

This page was generated on 2021-02-22 12:27:53 -0500 (Mon, 22 Feb 2021).

Package 1160/1974HostnameOS / ArchINSTALLBUILDCHECKBUILD BIN
msmsTests 1.28.0
Josep Gregori i Font
Snapshot Date: 2021-02-21 14:52:07 -0500 (Sun, 21 Feb 2021)
URL: https://git.bioconductor.org/packages/msmsTests
Branch: RELEASE_3_12
Last Commit: d21b2c9
Last Changed Date: 2020-10-27 10:51:53 -0500 (Tue, 27 Oct 2020)
malbec1Linux (Ubuntu 18.04.5 LTS) / x86_64  OK    OK    OK  UNNEEDED, same version exists in internal repository
nebbiolo1Linux (Ubuntu 20.04.2 LTS) / x86_64  OK    OK    OK  
tokay1Windows Server 2012 R2 Standard / x64  OK    OK    OK    OK  UNNEEDED, same version exists in internal repository
merida1macOS 10.14.6 Mojave / x86_64  OK    OK    OK    OK  UNNEEDED, same version exists in internal repository