Back to Multiple platform build/check report for BioC 3.12
ABCDEFGHIJKL[M]NOPQRSTUVWXYZ

INSTALL report for msmsEDA on tokay1

This page was generated on 2021-02-22 12:39:25 -0500 (Mon, 22 Feb 2021).

To the developers/maintainers of the msmsEDA package:
Please make sure to use the following settings in order to reproduce any error or warning you see on this page.
Package 1159/1974HostnameOS / ArchINSTALLBUILDCHECKBUILD BIN
msmsEDA 1.28.0
Josep Gregori
Snapshot Date: 2021-02-21 14:52:07 -0500 (Sun, 21 Feb 2021)
URL: https://git.bioconductor.org/packages/msmsEDA
Branch: RELEASE_3_12
Last Commit: a55b390
Last Changed Date: 2020-10-27 10:51:48 -0500 (Tue, 27 Oct 2020)
malbec1Linux (Ubuntu 18.04.5 LTS) / x86_64  OK    OK    OK  UNNEEDED, same version exists in internal repository
nebbiolo1Linux (Ubuntu 20.04.2 LTS) / x86_64  OK    OK    OK  
tokay1Windows Server 2012 R2 Standard / x64  OK    OK    OK    OK  UNNEEDED, same version exists in internal repository
merida1macOS 10.14.6 Mojave / x86_64  OK    OK    OK    OK  UNNEEDED, same version exists in internal repository

Summary

Package: msmsEDA
Version: 1.28.0
Command: C:\cygwin\bin\curl.exe -O https://malbec1.bioconductor.org/BBS/3.12/bioc/src/contrib/msmsEDA_1.28.0.tar.gz && rm -rf msmsEDA.buildbin-libdir && mkdir msmsEDA.buildbin-libdir && C:\Users\biocbuild\bbs-3.12-bioc\R\bin\R.exe CMD INSTALL --merge-multiarch --build --library=msmsEDA.buildbin-libdir msmsEDA_1.28.0.tar.gz && C:\Users\biocbuild\bbs-3.12-bioc\R\bin\R.exe CMD INSTALL msmsEDA_1.28.0.zip && rm msmsEDA_1.28.0.tar.gz msmsEDA_1.28.0.zip
StartedAt: 2021-02-21 17:40:19 -0500 (Sun, 21 Feb 2021)
EndedAt: 2021-02-21 17:40:56 -0500 (Sun, 21 Feb 2021)
EllapsedTime: 37.1 seconds
RetCode: 0
Status:   OK   

Command output

##############################################################################
##############################################################################
###
### Running command:
###
###   C:\cygwin\bin\curl.exe -O https://malbec1.bioconductor.org/BBS/3.12/bioc/src/contrib/msmsEDA_1.28.0.tar.gz && rm -rf msmsEDA.buildbin-libdir && mkdir msmsEDA.buildbin-libdir && C:\Users\biocbuild\bbs-3.12-bioc\R\bin\R.exe CMD INSTALL --merge-multiarch --build --library=msmsEDA.buildbin-libdir msmsEDA_1.28.0.tar.gz && C:\Users\biocbuild\bbs-3.12-bioc\R\bin\R.exe CMD INSTALL msmsEDA_1.28.0.zip && rm msmsEDA_1.28.0.tar.gz msmsEDA_1.28.0.zip
###
##############################################################################
##############################################################################


  % Total    % Received % Xferd  Average Speed   Time    Time     Time  Current
                                 Dload  Upload   Total   Spent    Left  Speed

  0     0    0     0    0     0      0      0 --:--:-- --:--:-- --:--:--     0
100 57322  100 57322    0     0  1260k      0 --:--:-- --:--:-- --:--:-- 1399k

install for i386

* installing *source* package 'msmsEDA' ...
** using staged installation
** R
** data
** byte-compile and prepare package for lazy loading
** help
*** installing help indices
  converting help for package 'msmsEDA'
    finding HTML links ... done
    batch.neutralize                        html  
    finding level-2 HTML links ... done

    count.stats                             html  
    counts.hc                               html  
    counts.heatmap                          html  
    counts.pca                              html  
    disp.estimates                          html  
    filter.flags                            html  
    gene.table                              html  
    msms.dataset                            html  
    msmsEDA-package                         html  
    norm.counts                             html  
    pnms                                    html  
    pp.msms.data                            html  
    spc.barplots                            html  
    spc.boxplots                            html  
    spc.densityplots                        html  
    spc.scatterplot                         html  
** building package indices
** installing vignettes
** testing if installed package can be loaded from temporary location
** testing if installed package can be loaded from final location
** testing if installed package keeps a record of temporary installation path

install for x64

* installing *source* package 'msmsEDA' ...
** testing if installed package can be loaded
* MD5 sums
packaged installation of 'msmsEDA' as msmsEDA_1.28.0.zip
* DONE (msmsEDA)
* installing to library 'C:/Users/biocbuild/bbs-3.12-bioc/R/library'
package 'msmsEDA' successfully unpacked and MD5 sums checked