Back to Multiple platform build/check report for BioC 3.12
ABCDEFGHIJKL[M]NOPQRSTUVWXYZ

BUILD report for msmsEDA on tokay1

This page was generated on 2021-02-22 12:39:25 -0500 (Mon, 22 Feb 2021).

To the developers/maintainers of the msmsEDA package:
Please make sure to use the following settings in order to reproduce any error or warning you see on this page.
Package 1159/1974HostnameOS / ArchINSTALLBUILDCHECKBUILD BIN
msmsEDA 1.28.0
Josep Gregori
Snapshot Date: 2021-02-21 14:52:07 -0500 (Sun, 21 Feb 2021)
URL: https://git.bioconductor.org/packages/msmsEDA
Branch: RELEASE_3_12
Last Commit: a55b390
Last Changed Date: 2020-10-27 10:51:48 -0500 (Tue, 27 Oct 2020)
malbec1Linux (Ubuntu 18.04.5 LTS) / x86_64  OK    OK    OK  UNNEEDED, same version exists in internal repository
nebbiolo1Linux (Ubuntu 20.04.2 LTS) / x86_64  OK    OK    OK  
tokay1Windows Server 2012 R2 Standard / x64  OK    OK    OK    OK  UNNEEDED, same version exists in internal repository
merida1macOS 10.14.6 Mojave / x86_64  OK    OK    OK    OK  UNNEEDED, same version exists in internal repository

Summary

Package: msmsEDA
Version: 1.28.0
Command: chmod a+r msmsEDA -R && C:\Users\biocbuild\bbs-3.12-bioc\R\bin\R.exe CMD build --keep-empty-dirs --no-resave-data msmsEDA
StartedAt: 2021-02-21 22:07:53 -0500 (Sun, 21 Feb 2021)
EndedAt: 2021-02-21 22:08:27 -0500 (Sun, 21 Feb 2021)
EllapsedTime: 33.9 seconds
RetCode: 0
Status:   OK   
PackageFile: msmsEDA_1.28.0.tar.gz
PackageFileSize: 342.7 KiB

Command output

##############################################################################
##############################################################################
###
### Running command:
###
###   chmod a+r msmsEDA -R && C:\Users\biocbuild\bbs-3.12-bioc\R\bin\R.exe CMD build --keep-empty-dirs --no-resave-data msmsEDA
###
##############################################################################
##############################################################################


* checking for file 'msmsEDA/DESCRIPTION' ... OK
* preparing 'msmsEDA':
* checking DESCRIPTION meta-information ... OK
* installing the package to build vignettes
* creating vignettes ... OK
* checking for LF line-endings in source and make files and shell scripts
* checking for empty or unneeded directories
* looking to see if a 'data/datalist' file should be added
* building 'msmsEDA_1.28.0.tar.gz'