Index of /checkResults/release/bioc-LATEST/msmsEDA/raw-results
Name
Last modified
Size
Description
Parent Directory
-
info.dcf
03-May-2024 00:36
275
kunpeng2/
03-May-2024 00:42
-
lconway/
03-May-2024 00:40
-
merida1/
05-Mar-2024 01:39
-
nebbiolo1/
03-May-2024 00:37
-
palomino3/
03-May-2024 00:39
-