Back to Multiple platform build/check report for BioC 3.18:   simplified   long
ABCDEFGHIJKL[M]NOPQRSTUVWXYZ

This page was generated on 2024-02-20 11:37:03 -0500 (Tue, 20 Feb 2024).

HostnameOSArch (*)R versionInstalled pkgs
nebbiolo2Linux (Ubuntu 22.04.3 LTS)x86_644.3.2 Patched (2023-11-13 r85521) -- "Eye Holes" 4690
palomino4Windows Server 2022 Datacenterx644.3.2 (2023-10-31 ucrt) -- "Eye Holes" 4443
lconwaymacOS 12.7.1 Montereyx86_644.3.2 Patched (2023-11-01 r85457) -- "Eye Holes" 4464
Click on any hostname to see more info about the system (e.g. compilers)      (*) as reported by 'uname -p', except on Windows and Mac OS X

Package 1331/2266HostnameOS / ArchINSTALLBUILDCHECKBUILD BIN
msgbsR 1.26.0  (landing page)
Benjamin Mayne
Snapshot Date: 2024-02-19 14:05:07 -0500 (Mon, 19 Feb 2024)
git_url: https://git.bioconductor.org/packages/msgbsR
git_branch: RELEASE_3_18
git_last_commit: 0b34e7d
git_last_commit_date: 2023-10-24 10:57:23 -0500 (Tue, 24 Oct 2023)
nebbiolo2Linux (Ubuntu 22.04.3 LTS) / x86_64  OK    OK    OK  UNNEEDED, same version is already published
palomino4Windows Server 2022 Datacenter / x64  OK    OK    OK    OK  UNNEEDED, same version is already published
lconwaymacOS 12.7.1 Monterey / x86_64  OK    OK    OK    OK  UNNEEDED, same version is already published
kjohnson1macOS 13.6.1 Ventura / arm64see weekly results here

BUILD results for msgbsR on palomino4


To the developers/maintainers of the msgbsR package:
- Allow up to 24 hours (and sometimes 48 hours) for your latest push to git@git.bioconductor.org:packages/msgbsR.git to reflect on this report. See Troubleshooting Build Report for more information.
- Use the following Renviron settings to reproduce errors and warnings.
- If 'R CMD check' started to fail recently on the Linux builder(s) over a missing dependency, add the missing dependency to 'Suggests:' in your DESCRIPTION file. See Renviron.bioc for more information.

raw results


Summary

Package: msgbsR
Version: 1.26.0
Command: chmod a+r msgbsR -R && F:\biocbuild\bbs-3.18-bioc\R\bin\R.exe CMD build --keep-empty-dirs --no-resave-data msgbsR
StartedAt: 2024-02-19 20:16:48 -0500 (Mon, 19 Feb 2024)
EndedAt: 2024-02-19 20:18:25 -0500 (Mon, 19 Feb 2024)
EllapsedTime: 96.8 seconds
RetCode: 0
Status:   OK  
PackageFile: msgbsR_1.26.0.tar.gz
PackageFileSize: 15.16 MiB

Command output

##############################################################################
##############################################################################
###
### Running command:
###
###   chmod a+r msgbsR -R && F:\biocbuild\bbs-3.18-bioc\R\bin\R.exe CMD build --keep-empty-dirs --no-resave-data msgbsR
###
##############################################################################
##############################################################################


* checking for file 'msgbsR/DESCRIPTION' ... OK
* preparing 'msgbsR':
* checking DESCRIPTION meta-information ... OK
* installing the package to build vignettes
* creating vignettes ... OK
* checking for LF line-endings in source and make files and shell scripts
* checking for empty or unneeded directories
* looking to see if a 'data/datalist' file should be added
  NB: this package now depends on R (>= 3.5.0)
  WARNING: Added dependency on R >= 3.5.0 because serialized objects in
  serialize/load version 3 cannot be read in older versions of R.
  File(s) containing such objects:
    'msgbsR/data/cuts.rda' 'msgbsR/data/ratdata.rda'
    'msgbsR/data/ratdata2.rda'
* building 'msgbsR_1.26.0.tar.gz'