Name | Last modified | Size | Description | |
---|---|---|---|---|
Parent Directory | - | |||
install-summary.dcf | 19-Jun-2024 06:59 | 261 | ||
install-out.txt | 19-Jun-2024 06:59 | 238K | ||
checksrc-summary.dcf | 19-Jun-2024 06:59 | 437 | ||
checksrc-out.txt | 19-Jun-2024 06:59 | 11K | ||
buildsrc-summary.dcf | 19-Jun-2024 06:59 | 436 | ||
buildsrc-out.txt | 19-Jun-2024 06:59 | 1.3K | ||
buildbin-summary.dcf | 19-Jun-2024 06:59 | 492 | ||
buildbin-out.txt | 19-Jun-2024 06:59 | 239K | ||