Index of /checkResults/release/bioc-LATEST/motifmatchr/raw-results/nebbiolo2

[ICO]NameLast modifiedSizeDescription

[DIR]Parent Directory  -  
[TXT]buildsrc-out.txt01-Mar-2024 01:36 963  
[   ]buildsrc-summary.dcf01-Mar-2024 01:36 429  
[TXT]checksrc-out.txt01-Mar-2024 01:36 4.2K 
[   ]checksrc-summary.dcf01-Mar-2024 01:36 430  
[TXT]install-out.txt01-Mar-2024 01:36 13K 
[   ]install-summary.dcf01-Mar-2024 01:36 267