Index of /checkResults/release/bioc-LATEST/motifmatchr/raw-results/lconway

[ICO]NameLast modifiedSizeDescription

[DIR]Parent Directory  -  
[TXT]buildbin-out.txt23-Feb-2024 01:37 20K 
[   ]buildbin-summary.dcf23-Feb-2024 01:37 554  
[TXT]buildsrc-out.txt23-Feb-2024 01:37 1.0K 
[   ]buildsrc-summary.dcf23-Feb-2024 01:37 440  
[TXT]checksrc-out.txt23-Feb-2024 01:37 4.1K 
[   ]checksrc-summary.dcf23-Feb-2024 01:37 460  
[TXT]install-out.txt23-Feb-2024 01:37 18K 
[   ]install-summary.dcf23-Feb-2024 01:37 277