Back to Multiple platform build/check report for BioC 3.14
ABCDEFGHIJKL[M]NOPQRSTUVWXYZ

This page was generated on 2021-12-03 13:05:22 -0500 (Fri, 03 Dec 2021).

BUILD results for motifcounter on tokay2

To the developers/maintainers of the motifcounter package:
- Please allow up to 24 hours (and sometimes 48 hours) for your latest push to git@git.bioconductor.org:packages/motifcounter.git to
reflect on this report. See How and When does the builder pull? When will my changes propagate? here for more information.
- Make sure to use the following settings in order to reproduce any error or warning you see on this page.

raw results

Package 1201/2083HostnameOS / ArchINSTALLBUILDCHECKBUILD BIN
motifcounter 1.18.0  (landing page)
Wolfgang Kopp
Snapshot Date: 2021-12-02 01:55:06 -0500 (Thu, 02 Dec 2021)
git_url: https://git.bioconductor.org/packages/motifcounter
git_branch: RELEASE_3_14
git_last_commit: 6628a11
git_last_commit_date: 2021-10-26 12:34:00 -0500 (Tue, 26 Oct 2021)
nebbiolo2Linux (Ubuntu 20.04.3 LTS) / x86_64  OK    OK    OK  UNNEEDED, same version is already published
tokay2Windows Server 2012 R2 Standard / x64  OK    OK    OK    OK  UNNEEDED, same version is already published
machv2macOS 10.14.6 Mojave / x86_64  OK    OK    OK    OK  UNNEEDED, same version is already published

Summary

Package: motifcounter
Version: 1.18.0
Command: chmod a+r motifcounter -R && C:\Users\biocbuild\bbs-3.14-bioc\R\bin\R.exe CMD build --keep-empty-dirs --no-resave-data motifcounter
StartedAt: 2021-12-02 12:47:18 -0500 (Thu, 02 Dec 2021)
EndedAt: 2021-12-02 12:49:02 -0500 (Thu, 02 Dec 2021)
EllapsedTime: 103.9 seconds
RetCode: 0
Status:   OK  
PackageFile: motifcounter_1.18.0.tar.gz
PackageFileSize: 452.2 KiB

Command output

##############################################################################
##############################################################################
###
### Running command:
###
###   chmod a+r motifcounter -R && C:\Users\biocbuild\bbs-3.14-bioc\R\bin\R.exe CMD build --keep-empty-dirs --no-resave-data motifcounter
###
##############################################################################
##############################################################################


* checking for file 'motifcounter/DESCRIPTION' ... OK
* preparing 'motifcounter':
* checking DESCRIPTION meta-information ... OK
* cleaning src
* installing the package to build vignettes
* creating vignettes ... OK
* cleaning src
* checking for LF line-endings in source and make files and shell scripts
* checking for empty or unneeded directories
* building 'motifcounter_1.18.0.tar.gz'