Back to Multiple platform build/check report for BioC 3.14
ABCDEFGHIJKL[M]NOPQRSTUVWXYZ

This page was generated on 2021-12-03 13:05:54 -0500 (Fri, 03 Dec 2021).

BUILD BIN results for motifcounter on machv2

To the developers/maintainers of the motifcounter package:
- Please allow up to 24 hours (and sometimes 48 hours) for your latest push to git@git.bioconductor.org:packages/motifcounter.git to
reflect on this report. See How and When does the builder pull? When will my changes propagate? here for more information.
- Make sure to use the following settings in order to reproduce any error or warning you see on this page.

raw results

Package 1201/2083HostnameOS / ArchINSTALLBUILDCHECKBUILD BIN
motifcounter 1.18.0  (landing page)
Wolfgang Kopp
Snapshot Date: 2021-12-02 01:55:06 -0500 (Thu, 02 Dec 2021)
git_url: https://git.bioconductor.org/packages/motifcounter
git_branch: RELEASE_3_14
git_last_commit: 6628a11
git_last_commit_date: 2021-10-26 12:34:00 -0500 (Tue, 26 Oct 2021)
nebbiolo2Linux (Ubuntu 20.04.3 LTS) / x86_64  OK    OK    OK  UNNEEDED, same version is already published
tokay2Windows Server 2012 R2 Standard / x64  OK    OK    OK    OK  UNNEEDED, same version is already published
machv2macOS 10.14.6 Mojave / x86_64  OK    OK    OK    OK  UNNEEDED, same version is already published

Summary

Package: motifcounter
Version: 1.18.0
Command: rm -rf motifcounter.buildbin-libdir && mkdir motifcounter.buildbin-libdir && /Users/biocbuild/BBS/utils/build-universal.sh motifcounter_1.18.0.tar.gz /Library/Frameworks/R.framework/Resources/bin/R motifcounter.buildbin-libdir
StartedAt: 2021-12-02 22:55:52 -0500 (Thu, 02 Dec 2021)
EndedAt: 2021-12-02 22:56:56 -0500 (Thu, 02 Dec 2021)
EllapsedTime: 64.9 seconds
RetCode: 0
Status:   OK  
PackageFile: motifcounter_1.18.0.tgz
PackageFileSize: 670.2 KiB

Command output

##############################################################################
##############################################################################
###
### Running command:
###
###   rm -rf motifcounter.buildbin-libdir && mkdir motifcounter.buildbin-libdir && /Users/biocbuild/BBS/utils/build-universal.sh motifcounter_1.18.0.tar.gz /Library/Frameworks/R.framework/Resources/bin/R motifcounter.buildbin-libdir
###
##############################################################################
##############################################################################


>>>>>>> 
>>>>>>> INSTALLATION WITH 'R CMD INSTALL --preclean --no-multiarch --library=motifcounter.buildbin-libdir motifcounter_1.18.0.tar.gz'
>>>>>>> 

* installing *source* package ‘motifcounter’ ...
** using staged installation
** libs
clang -mmacosx-version-min=10.13 -I"/Library/Frameworks/R.framework/Resources/include" -DNDEBUG   -I/usr/local/include   -DIN_R -fPIC  -Wall -g -O2  -c Rbackground.c -o Rbackground.o
clang -mmacosx-version-min=10.13 -I"/Library/Frameworks/R.framework/Resources/include" -DNDEBUG   -I/usr/local/include   -DIN_R -fPIC  -Wall -g -O2  -c Rcombinatorial.c -o Rcombinatorial.o
clang -mmacosx-version-min=10.13 -I"/Library/Frameworks/R.framework/Resources/include" -DNDEBUG   -I/usr/local/include   -DIN_R -fPIC  -Wall -g -O2  -c Rcompoundpoisson.c -o Rcompoundpoisson.o
clang -mmacosx-version-min=10.13 -I"/Library/Frameworks/R.framework/Resources/include" -DNDEBUG   -I/usr/local/include   -DIN_R -fPIC  -Wall -g -O2  -c Rminmaxscore.c -o Rminmaxscore.o
clang -mmacosx-version-min=10.13 -I"/Library/Frameworks/R.framework/Resources/include" -DNDEBUG   -I/usr/local/include   -DIN_R -fPIC  -Wall -g -O2  -c Roption.c -o Roption.o
clang -mmacosx-version-min=10.13 -I"/Library/Frameworks/R.framework/Resources/include" -DNDEBUG   -I/usr/local/include   -DIN_R -fPIC  -Wall -g -O2  -c Roverlap.c -o Roverlap.o
clang -mmacosx-version-min=10.13 -I"/Library/Frameworks/R.framework/Resources/include" -DNDEBUG   -I/usr/local/include   -DIN_R -fPIC  -Wall -g -O2  -c Rscore1d.c -o Rscore1d.o
clang -mmacosx-version-min=10.13 -I"/Library/Frameworks/R.framework/Resources/include" -DNDEBUG   -I/usr/local/include   -DIN_R -fPIC  -Wall -g -O2  -c Rsequence.c -o Rsequence.o
Rsequence.c:143:21: warning: unused variable 'noscores' [-Wunused-variable]
    int mins, maxs, noscores;
                    ^
1 warning generated.
clang -mmacosx-version-min=10.13 -I"/Library/Frameworks/R.framework/Resources/include" -DNDEBUG   -I/usr/local/include   -DIN_R -fPIC  -Wall -g -O2  -c Rsimulate.c -o Rsimulate.o
clang -mmacosx-version-min=10.13 -I"/Library/Frameworks/R.framework/Resources/include" -DNDEBUG   -I/usr/local/include   -DIN_R -fPIC  -Wall -g -O2  -c background.c -o background.o
clang -mmacosx-version-min=10.13 -I"/Library/Frameworks/R.framework/Resources/include" -DNDEBUG   -I/usr/local/include   -DIN_R -fPIC  -Wall -g -O2  -c combinatorial.c -o combinatorial.o
clang -mmacosx-version-min=10.13 -I"/Library/Frameworks/R.framework/Resources/include" -DNDEBUG   -I/usr/local/include   -DIN_R -fPIC  -Wall -g -O2  -c compoundpoisson.c -o compoundpoisson.o
clang -mmacosx-version-min=10.13 -I"/Library/Frameworks/R.framework/Resources/include" -DNDEBUG   -I/usr/local/include   -DIN_R -fPIC  -Wall -g -O2  -c markovchain.c -o markovchain.o
clang -mmacosx-version-min=10.13 -I"/Library/Frameworks/R.framework/Resources/include" -DNDEBUG   -I/usr/local/include   -DIN_R -fPIC  -Wall -g -O2  -c markovchain_single.c -o markovchain_single.o
clang -mmacosx-version-min=10.13 -I"/Library/Frameworks/R.framework/Resources/include" -DNDEBUG   -I/usr/local/include   -DIN_R -fPIC  -Wall -g -O2  -c matrix.c -o matrix.o
clang -mmacosx-version-min=10.13 -I"/Library/Frameworks/R.framework/Resources/include" -DNDEBUG   -I/usr/local/include   -DIN_R -fPIC  -Wall -g -O2  -c mdist_register.c -o mdist_register.o
clang -mmacosx-version-min=10.13 -I"/Library/Frameworks/R.framework/Resources/include" -DNDEBUG   -I/usr/local/include   -DIN_R -fPIC  -Wall -g -O2  -c minmaxscore.c -o minmaxscore.o
clang -mmacosx-version-min=10.13 -I"/Library/Frameworks/R.framework/Resources/include" -DNDEBUG   -I/usr/local/include   -DIN_R -fPIC  -Wall -g -O2  -c overlap.c -o overlap.o
clang -mmacosx-version-min=10.13 -I"/Library/Frameworks/R.framework/Resources/include" -DNDEBUG   -I/usr/local/include   -DIN_R -fPIC  -Wall -g -O2  -c score1d.c -o score1d.o
clang -mmacosx-version-min=10.13 -I"/Library/Frameworks/R.framework/Resources/include" -DNDEBUG   -I/usr/local/include   -DIN_R -fPIC  -Wall -g -O2  -c score2d.c -o score2d.o
clang -mmacosx-version-min=10.13 -I"/Library/Frameworks/R.framework/Resources/include" -DNDEBUG   -I/usr/local/include   -DIN_R -fPIC  -Wall -g -O2  -c scorefunctions.c -o scorefunctions.o
scorefunctions.c:84:22: warning: unused variable 'cindex' [-Wunused-variable]
    int j, i, index, cindex, ds;
                     ^
scorefunctions.c:119:17: warning: unused variable 'cindex' [-Wunused-variable]
  int s, index, cindex;
                ^
scorefunctions.c:159:19: warning: unused variable 'cindex' [-Wunused-variable]
    int s, index, cindex;
                  ^
3 warnings generated.
clang -mmacosx-version-min=10.13 -I"/Library/Frameworks/R.framework/Resources/include" -DNDEBUG   -I/usr/local/include   -DIN_R -fPIC  -Wall -g -O2  -c sequence.c -o sequence.o
clang -mmacosx-version-min=10.13 -I"/Library/Frameworks/R.framework/Resources/include" -DNDEBUG   -I/usr/local/include   -DIN_R -fPIC  -Wall -g -O2  -c simulate.c -o simulate.o
clang -mmacosx-version-min=10.13 -dynamiclib -Wl,-headerpad_max_install_names -undefined dynamic_lookup -single_module -multiply_defined suppress -L/Library/Frameworks/R.framework/Resources/lib -L/usr/local/lib -o motifcounter.so Rbackground.o Rcombinatorial.o Rcompoundpoisson.o Rminmaxscore.o Roption.o Roverlap.o Rscore1d.o Rsequence.o Rsimulate.o background.o combinatorial.o compoundpoisson.o markovchain.o markovchain_single.o matrix.o mdist_register.o minmaxscore.o overlap.o score1d.o score2d.o scorefunctions.o sequence.o simulate.o -F/Library/Frameworks/R.framework/.. -framework R -Wl,-framework -Wl,CoreFoundation
installing to /Users/biocbuild/bbs-3.14-bioc/meat/motifcounter.buildbin-libdir/00LOCK-motifcounter/00new/motifcounter/libs
** R
** inst
** byte-compile and prepare package for lazy loading
** help
*** installing help indices
** building package indices
** installing vignettes
** testing if installed package can be loaded from temporary location
** checking absolute paths in shared objects and dynamic libraries
** testing if installed package can be loaded from final location
** testing if installed package keeps a record of temporary installation path
* DONE (motifcounter)


>>>>>>> 
>>>>>>> FIXING LINKS FOR motifcounter.buildbin-libdir/motifcounter/libs/motifcounter.so
>>>>>>> 

install_name_tool -change "/usr/local/lib/libgcc_s.1.dylib" "/Library/Frameworks/R.framework/Versions/4.1/Resources/lib/libgcc_s.1.dylib" "motifcounter.buildbin-libdir/motifcounter/libs/motifcounter.so"
install_name_tool -change "/usr/local/lib/libgfortran.5.dylib" "/Library/Frameworks/R.framework/Versions/4.1/Resources/lib/libgfortran.5.dylib" "motifcounter.buildbin-libdir/motifcounter/libs/motifcounter.so"
install_name_tool -change "/usr/local/lib/libquadmath.0.dylib" "/Library/Frameworks/R.framework/Versions/4.1/Resources/lib/libquadmath.0.dylib" "motifcounter.buildbin-libdir/motifcounter/libs/motifcounter.so"