Index of /checkResults/release/bioc-LATEST/motifbreakR/raw-results/riesling1

[ICO]NameLast modifiedSizeDescription

[DIR]Parent Directory  -  
[TXT]buildbin-out.txt16-Jan-2022 01:08 2.7K 
[   ]buildbin-summary.dcf16-Jan-2022 01:08 536  
[TXT]buildsrc-out.txt19-Mar-2022 00:08 3.5K 
[   ]buildsrc-summary.dcf19-Mar-2022 00:08 380  
[TXT]checksrc-out.txt16-Jan-2022 01:08 5.3K 
[   ]checksrc-summary.dcf16-Jan-2022 01:08 467  
[TXT]install-out.txt19-Mar-2022 00:08 2.6K 
[   ]install-summary.dcf19-Mar-2022 00:08 275