Name | Last modified | Size | Description | |
---|---|---|---|---|
Parent Directory | - | |||
install-summary.dcf | 29-Jun-2024 06:41 | 276 | ||
install-out.txt | 29-Jun-2024 06:41 | 1.5K | ||
checksrc-summary.dcf | 08-May-2024 00:38 | 470 | ||
checksrc-out.txt | 08-May-2024 00:38 | 5.3K | ||
buildsrc-summary.dcf | 29-Jun-2024 06:41 | 387 | ||
buildsrc-out.txt | 29-Jun-2024 06:41 | 691 | ||
buildbin-summary.dcf | 08-May-2024 00:38 | 538 | ||
buildbin-out.txt | 08-May-2024 00:38 | 1.6K | ||