Name | Last modified | Size | Description | |
---|---|---|---|---|
Parent Directory | - | |||
checksrc-out.txt | 27-Jul-2024 06:38 | 5.1K | ||
install-out.txt | 27-Jul-2024 06:38 | 1.1K | ||
buildsrc-out.txt | 27-Jul-2024 06:38 | 885 | ||
checksrc-summary.dcf | 27-Jul-2024 06:38 | 436 | ||
buildsrc-summary.dcf | 27-Jul-2024 06:38 | 430 | ||
install-summary.dcf | 27-Jul-2024 06:38 | 267 | ||