Index of /checkResults/release/bioc-LATEST/motifbreakR/raw-results/merida1

[ICO]NameLast modifiedSizeDescription

[DIR]Parent Directory  -  
[TXT]buildbin-out.txt02-Jul-2022 01:08 1.4K 
[   ]buildbin-summary.dcf02-Jul-2022 01:08 555  
[TXT]buildsrc-out.txt02-Jul-2022 01:08 895  
[   ]buildsrc-summary.dcf02-Jul-2022 01:08 440  
[TXT]checksrc-out.txt02-Jul-2022 01:08 3.5K 
[   ]checksrc-summary.dcf02-Jul-2022 01:08 460  
[TXT]install-out.txt02-Jul-2022 01:08 1.2K 
[   ]install-summary.dcf02-Jul-2022 01:08 278