Name | Last modified | Size | Description | |
---|---|---|---|---|
Parent Directory | - | |||
install-summary.dcf | 23-May-2024 00:36 | 279 | ||
buildsrc-summary.dcf | 23-May-2024 00:36 | 350 | ||
checksrc-summary.dcf | 22-May-2024 00:38 | 466 | ||
buildbin-summary.dcf | 22-May-2024 00:38 | 554 | ||
install-out.txt | 23-May-2024 00:36 | 828 | ||
buildsrc-out.txt | 23-May-2024 00:36 | 1.0K | ||
buildbin-out.txt | 22-May-2024 00:38 | 1.4K | ||
checksrc-out.txt | 22-May-2024 00:38 | 5.1K | ||