Name | Last modified | Size | Description | |
---|---|---|---|---|
Parent Directory | - | |||
install-out.txt | 10-May-2024 00:41 | 1.2K | ||
install-summary.dcf | 10-May-2024 00:41 | 278 | ||
buildsrc-summary.dcf | 10-May-2024 00:41 | 441 | ||
buildsrc-out.txt | 10-May-2024 00:41 | 896 | ||
checksrc-out.txt | 10-May-2024 00:41 | 5.2K | ||
checksrc-summary.dcf | 10-May-2024 00:41 | 473 | ||