Back to Multiple platform build/check report for BioC 3.16
ABCDEFGHIJKL[M]NOPQRSTUVWXYZ

This page was generated on 2022-11-30 11:06:01 -0500 (Wed, 30 Nov 2022).

HostnameOSArch (*)R versionInstalled pkgs
nebbiolo2Linux (Ubuntu 20.04.5 LTS)x86_644.2.2 (2022-10-31) -- "Innocent and Trusting" 4503
palomino4Windows Server 2022 Datacenterx644.2.2 (2022-10-31 ucrt) -- "Innocent and Trusting" 4278
lconwaymacOS 12.5.1 Montereyx86_644.2.2 (2022-10-31) -- "Innocent and Trusting" 4309
Click on any hostname to see more info about the system (e.g. compilers)      (*) as reported by 'uname -p', except on Windows and Mac OS X

INSTALL results for motifbreakR on nebbiolo2


To the developers/maintainers of the motifbreakR package:
- Please allow up to 24 hours (and sometimes 48 hours) for your latest push to git@git.bioconductor.org:packages/motifbreakR.git to
reflect on this report. See How and When does the builder pull? When will my changes propagate? for more information.
- Make sure to use the following settings in order to reproduce any error or warning you see on this page.

raw results

Package 1254/2183HostnameOS / ArchINSTALLBUILDCHECKBUILD BIN
motifbreakR 2.12.0  (landing page)
Simon Gert Coetzee
Snapshot Date: 2022-11-29 14:00:04 -0500 (Tue, 29 Nov 2022)
git_url: https://git.bioconductor.org/packages/motifbreakR
git_branch: RELEASE_3_16
git_last_commit: c0786cf
git_last_commit_date: 2022-11-01 11:12:10 -0500 (Tue, 01 Nov 2022)
nebbiolo2Linux (Ubuntu 20.04.5 LTS) / x86_64  OK    ERROR  skipped
palomino4Windows Server 2022 Datacenter / x64  OK    ERROR  skippedskipped
lconwaymacOS 12.5.1 Monterey / x86_64  OK    ERROR  skippedskipped

Summary

Package: motifbreakR
Version: 2.12.0
Command: /home/biocbuild/bbs-3.16-bioc/R/bin/R CMD INSTALL motifbreakR
StartedAt: 2022-11-29 15:46:48 -0500 (Tue, 29 Nov 2022)
EndedAt: 2022-11-29 15:47:56 -0500 (Tue, 29 Nov 2022)
EllapsedTime: 67.5 seconds
RetCode: 0
Status:   OK  

Command output

##############################################################################
##############################################################################
###
### Running command:
###
###   /home/biocbuild/bbs-3.16-bioc/R/bin/R CMD INSTALL motifbreakR
###
##############################################################################
##############################################################################


* installing to library ‘/home/biocbuild/bbs-3.16-bioc/R/library’
* installing *source* package ‘motifbreakR’ ...
** using staged installation
** R
** data
** inst
** byte-compile and prepare package for lazy loading
See system.file("LICENSE", package="MotifDb") for use restrictions.
** help
*** installing help indices
** building package indices
** installing vignettes
** testing if installed package can be loaded from temporary location
See system.file("LICENSE", package="MotifDb") for use restrictions.
** testing if installed package can be loaded from final location
See system.file("LICENSE", package="MotifDb") for use restrictions.
** testing if installed package keeps a record of temporary installation path
* DONE (motifbreakR)