Name | Last modified | Size | Description | |
---|---|---|---|---|
Parent Directory | - | |||
install-out.txt | 26-Jun-2024 06:40 | 968 | ||
install-summary.dcf | 26-Jun-2024 06:40 | 265 | ||
buildsrc-out.txt | 26-Jun-2024 06:40 | 893 | ||
buildsrc-summary.dcf | 26-Jun-2024 06:40 | 448 | ||
checksrc-out.txt | 26-Jun-2024 06:40 | 3.7K | ||
checksrc-summary.dcf | 26-Jun-2024 06:40 | 442 | ||
buildbin-out.txt | 26-Jun-2024 06:40 | 1.1K | ||
buildbin-summary.dcf | 26-Jun-2024 06:40 | 507 | ||