Name | Last modified | Size | Description | |
---|---|---|---|---|
Parent Directory | - | |||
install-summary.dcf | 10-Jul-2024 06:39 | 256 | ||
install-out.txt | 10-Jul-2024 06:39 | 957 | ||
buildsrc-out.txt | 10-Jul-2024 06:39 | 864 | ||
buildsrc-summary.dcf | 10-Jul-2024 06:39 | 412 | ||
checksrc-out.txt | 10-Jul-2024 06:39 | 3.7K | ||
checksrc-summary.dcf | 10-Jul-2024 06:39 | 408 | ||