Name | Last modified | Size | Description | |
---|---|---|---|---|
Parent Directory | - | |||
buildbin-out.txt | 05-Mar-2024 01:39 | 11K | ||
buildbin-summary.dcf | 05-Mar-2024 01:39 | 516 | ||
buildsrc-out.txt | 05-Mar-2024 01:39 | 900 | ||
buildsrc-summary.dcf | 05-Mar-2024 01:39 | 420 | ||
checksrc-out.txt | 05-Mar-2024 01:39 | 4.8K | ||
checksrc-summary.dcf | 05-Mar-2024 01:39 | 466 | ||
install-out.txt | 05-Mar-2024 01:39 | 9.5K | ||
install-summary.dcf | 05-Mar-2024 01:39 | 265 | ||