Name | Last modified | Size | Description | |
---|---|---|---|---|
Parent Directory | - | |||
buildsrc-summary.dcf | 05-Mar-2024 01:39 | 342 | ||
buildsrc-out.txt | 05-Mar-2024 01:39 | 907 | ||
install-summary.dcf | 05-Mar-2024 01:39 | 271 | ||
install-out.txt | 05-Mar-2024 01:39 | 697 | ||
buildbin-summary.dcf | 18-Jan-2024 02:23 | 530 | ||
buildbin-out.txt | 18-Jan-2024 02:23 | 4.2K | ||
checksrc-summary.dcf | 18-Jan-2024 02:23 | 444 | ||
checksrc-out.txt | 18-Jan-2024 02:23 | 5.5K | ||