Name | Last modified | Size | Description | |
---|---|---|---|---|
Parent Directory | - | |||
install-out.txt | 17-Jul-2024 06:38 | 1.0K | ||
install-summary.dcf | 17-Jul-2024 06:38 | 268 | ||
buildsrc-out.txt | 17-Jul-2024 06:38 | 826 | ||
buildsrc-summary.dcf | 17-Jul-2024 06:38 | 433 | ||
checksrc-out.txt | 17-Jul-2024 06:38 | 3.5K | ||
checksrc-summary.dcf | 17-Jul-2024 06:38 | 434 | ||