Name | Last modified | Size | Description | |
---|---|---|---|---|
Parent Directory | - | |||
install-out.txt | 17-Jul-2024 06:38 | 2.3K | ||
install-summary.dcf | 17-Jul-2024 06:38 | 254 | ||
buildsrc-out.txt | 17-Jul-2024 06:38 | 804 | ||
buildsrc-summary.dcf | 17-Jul-2024 06:38 | 410 | ||
checksrc-out.txt | 17-Jul-2024 06:38 | 3.3K | ||
checksrc-summary.dcf | 17-Jul-2024 06:38 | 405 | ||