Back to Multiple platform build/check report for BioC 3.14
ABCDEFGHIJKL[M]NOPQRSTUVWXYZ

This page was generated on 2021-11-29 15:05:29 -0500 (Mon, 29 Nov 2021).

BUILD BIN results for miloR on tokay2

To the developers/maintainers of the miloR package:
- Please allow up to 24 hours (and sometimes 48 hours) for your latest push to git@git.bioconductor.org:packages/miloR.git to
reflect on this report. See How and When does the builder pull? When will my changes propagate? here for more information.
- Make sure to use the following settings in order to reproduce any error or warning you see on this page.

raw results

Package 1150/2083HostnameOS / ArchINSTALLBUILDCHECKBUILD BIN
miloR 1.2.0  (landing page)
Mike Morgan
Snapshot Date: 2021-11-28 04:15:06 -0500 (Sun, 28 Nov 2021)
git_url: https://git.bioconductor.org/packages/miloR
git_branch: RELEASE_3_14
git_last_commit: 00e5e3b
git_last_commit_date: 2021-10-26 13:09:25 -0500 (Tue, 26 Oct 2021)
nebbiolo2Linux (Ubuntu 20.04.3 LTS) / x86_64  OK    OK    OK  UNNEEDED, same version is already published
tokay2Windows Server 2012 R2 Standard / x64  OK    OK    OK    OK  UNNEEDED, same version is already published
machv2macOS 10.14.6 Mojave / x86_64  OK    ERROR  skippedskipped

Summary

Package: miloR
Version: 1.2.0
Command: rm -rf miloR.buildbin-libdir && mkdir miloR.buildbin-libdir && C:\Users\biocbuild\bbs-3.14-bioc\R\bin\R.exe CMD INSTALL --merge-multiarch --build --library=miloR.buildbin-libdir miloR_1.2.0.tar.gz
StartedAt: 2021-11-29 10:19:20 -0500 (Mon, 29 Nov 2021)
EndedAt: 2021-11-29 10:21:02 -0500 (Mon, 29 Nov 2021)
EllapsedTime: 101.7 seconds
RetCode: 0
Status:   OK  
PackageFile: miloR_1.2.0.zip
PackageFileSize: 3.734 MiB

Command output

##############################################################################
##############################################################################
###
### Running command:
###
###   rm -rf miloR.buildbin-libdir && mkdir miloR.buildbin-libdir && C:\Users\biocbuild\bbs-3.14-bioc\R\bin\R.exe CMD INSTALL --merge-multiarch --build --library=miloR.buildbin-libdir miloR_1.2.0.tar.gz
###
##############################################################################
##############################################################################



install for i386

* installing *source* package 'miloR' ...
** using staged installation
** R
** data
** inst
** byte-compile and prepare package for lazy loading
Creating a new generic function for 'graph' in package 'miloR'
** help
*** installing help indices
  converting help for package 'miloR'
    finding HTML links ... done
    Milo                                    html  
    finding level-2 HTML links ... done

    annotateNhoods                          html  
    buildFromAdjacency                      html  
    buildGraph                              html  
    buildNhoodGraph                         html  
    calcNhoodDistance                       html  
    calcNhoodExpression                     html  
    countCells                              html  
    findNhoodGroupMarkers                   html  
    findNhoodMarkers                        html  
    graphSpatialFDR                         html  
    groupNhoods                             html  
    makeNhoods                              html  
    matrixORMatrix-class                    html  
    methods                                 html  
    miloR-package                           html  
    plotDAbeeswarm                          html  
    plotNhoodExpressionDA                   html  
    plotNhoodGraph                          html  
    plotNhoodGraphDA                        html  
    plotNhoodMA                             html  
    plotNhoodSizeHist                       html  
    sim_discrete                            html  
    sim_trajectory                          html  
    testDiffExp                             html  
    testNhoods                              html  
** building package indices
** installing vignettes
** testing if installed package can be loaded from temporary location
** testing if installed package can be loaded from final location
** testing if installed package keeps a record of temporary installation path

install for x64

* installing *source* package 'miloR' ...
** testing if installed package can be loaded
* MD5 sums
packaged installation of 'miloR' as miloR_1.2.0.zip
* DONE (miloR)