Name | Last modified | Size | Description | |
---|---|---|---|---|
Parent Directory | - | |||
buildsrc-summary.dcf | 29-Jun-2024 06:41 | 368 | ||
buildsrc-out.txt | 29-Jun-2024 06:41 | 683 | ||
install-summary.dcf | 29-Jun-2024 06:41 | 264 | ||
install-out.txt | 29-Jun-2024 06:41 | 16K | ||
buildbin-summary.dcf | 26-Jun-2024 06:40 | 501 | ||
buildbin-out.txt | 26-Jun-2024 06:40 | 16K | ||
checksrc-out.txt | 26-Jun-2024 06:40 | 7.3K | ||
checksrc-summary.dcf | 26-Jun-2024 06:40 | 437 | ||