Name | Last modified | Size | Description | |
---|---|---|---|---|
Parent Directory | - | |||
checksrc-out.txt | 20-Jul-2024 06:40 | 7.0K | ||
checksrc-summary.dcf | 20-Jul-2024 06:40 | 435 | ||
buildbin-summary.dcf | 20-Jul-2024 06:40 | 516 | ||
buildbin-out.txt | 20-Jul-2024 06:40 | 13K | ||
install-summary.dcf | 24-Jul-2024 22:06 | 265 | ||
install-out.txt | 24-Jul-2024 22:06 | 9.6K | ||
buildsrc-out.txt | 24-Jul-2024 22:06 | 1.7K | ||
buildsrc-summary.dcf | 24-Jul-2024 22:06 | 340 | ||