Index of /checkResults/release/bioc-LATEST/miloR/raw-results/merida1

[ICO]NameLast modifiedSizeDescription

[DIR]Parent Directory  -  
[TXT]buildbin-out.txt02-Jul-2022 01:08 1.2K 
[   ]buildbin-summary.dcf02-Jul-2022 01:08 515  
[TXT]buildsrc-out.txt02-Jul-2022 01:08 870  
[   ]buildsrc-summary.dcf02-Jul-2022 01:08 420  
[TXT]checksrc-out.txt02-Jul-2022 01:08 6.1K 
[   ]checksrc-summary.dcf02-Jul-2022 01:08 434  
[TXT]install-out.txt02-Jul-2022 01:08 1.0K 
[   ]install-summary.dcf02-Jul-2022 01:08 264