Name | Last modified | Size | Description | |
---|---|---|---|---|
Parent Directory | - | |||
buildsrc-out.txt | 03-Nov-2023 00:40 | 631 | ||
buildsrc-summary.dcf | 03-Nov-2023 00:40 | 330 | ||
checksrc-out.txt | 25-Oct-2023 00:41 | 6.5K | ||
checksrc-summary.dcf | 25-Oct-2023 00:41 | 393 | ||
install-out.txt | 03-Nov-2023 00:40 | 1.0K | ||
install-summary.dcf | 03-Nov-2023 00:40 | 249 | ||