Name | Last modified | Size | Description | |
---|---|---|---|---|
Parent Directory | - | |||
checksrc-out.txt | 20-Jul-2024 06:41 | 6.8K | ||
checksrc-summary.dcf | 20-Jul-2024 06:41 | 434 | ||
buildbin-out.txt | 20-Jul-2024 06:41 | 13K | ||
buildbin-summary.dcf | 20-Jul-2024 06:41 | 516 | ||
install-out.txt | 24-Jul-2024 22:07 | 9.6K | ||
install-summary.dcf | 24-Jul-2024 22:07 | 265 | ||
buildsrc-out.txt | 24-Jul-2024 22:07 | 1.6K | ||
buildsrc-summary.dcf | 24-Jul-2024 22:07 | 340 | ||