Index of /checkResults/release/bioc-LATEST/miloR/raw-results

[ICO]NameLast modifiedSizeDescription

[DIR]Parent Directory  -  
[DIR]merida1/02-Jul-2022 01:08 -  
[   ]info.dcf02-Jul-2022 01:08 274  
[DIR]palomino3/02-Jul-2022 01:06 -  
[DIR]nebbiolo1/02-Jul-2022 01:05 -  
[DIR]riesling1/19-Mar-2022 00:08 -