Back to Multiple platform build/check report for BioC 3.15
ABCDEFGHIJKL[M]NOPQRSTUVWXYZ

This page was generated on 2022-06-24 12:05:02 -0400 (Fri, 24 Jun 2022).

HostnameOSArch (*)R versionInstalled pkgs
nebbiolo1Linux (Ubuntu 20.04.4 LTS)x86_644.2.0 (2022-04-22) -- "Vigorous Calisthenics" 4380
palomino3Windows Server 2022 Datacenterx644.2.0 (2022-04-22 ucrt) -- "Vigorous Calisthenics" 4156
merida1macOS 10.14.6 Mojavex86_644.2.0 (2022-04-22) -- "Vigorous Calisthenics" 4221
Click on any hostname to see more info about the system (e.g. compilers)      (*) as reported by 'uname -p', except on Windows and Mac OS X

CHECK results for microbiomeMarker on nebbiolo1


To the developers/maintainers of the microbiomeMarker package:
- Please allow up to 24 hours (and sometimes 48 hours) for your latest push to git@git.bioconductor.org:packages/microbiomeMarker.git to
reflect on this report. See How and When does the builder pull? When will my changes propagate? for more information.
- Make sure to use the following settings in order to reproduce any error or warning you see on this page.

raw results

Package 1174/2140HostnameOS / ArchINSTALLBUILDCHECKBUILD BIN
microbiomeMarker 1.2.2  (landing page)
Yang Cao
Snapshot Date: 2022-06-23 13:55:15 -0400 (Thu, 23 Jun 2022)
git_url: https://git.bioconductor.org/packages/microbiomeMarker
git_branch: RELEASE_3_15
git_last_commit: a51c6f2
git_last_commit_date: 2022-06-15 01:49:04 -0400 (Wed, 15 Jun 2022)
nebbiolo1Linux (Ubuntu 20.04.4 LTS) / x86_64  OK    OK    OK  UNNEEDED, same version is already published
palomino3Windows Server 2022 Datacenter / x64  OK    OK    OK    OK  UNNEEDED, same version is already published
merida1macOS 10.14.6 Mojave / x86_64  OK    OK    OK    OK  UNNEEDED, same version is already published

Summary

Package: microbiomeMarker
Version: 1.2.2
Command: /home/biocbuild/bbs-3.15-bioc/R/bin/R CMD check --install=check:microbiomeMarker.install-out.txt --library=/home/biocbuild/bbs-3.15-bioc/R/library --no-vignettes --timings microbiomeMarker_1.2.2.tar.gz
StartedAt: 2022-06-23 20:47:08 -0400 (Thu, 23 Jun 2022)
EndedAt: 2022-06-23 20:54:10 -0400 (Thu, 23 Jun 2022)
EllapsedTime: 421.5 seconds
RetCode: 0
Status:   OK  
CheckDir: microbiomeMarker.Rcheck
Warnings: 0

Command output

##############################################################################
##############################################################################
###
### Running command:
###
###   /home/biocbuild/bbs-3.15-bioc/R/bin/R CMD check --install=check:microbiomeMarker.install-out.txt --library=/home/biocbuild/bbs-3.15-bioc/R/library --no-vignettes --timings microbiomeMarker_1.2.2.tar.gz
###
##############################################################################
##############################################################################


* using log directory ‘/home/biocbuild/bbs-3.15-bioc/meat/microbiomeMarker.Rcheck’
* using R version 4.2.0 (2022-04-22)
* using platform: x86_64-pc-linux-gnu (64-bit)
* using session charset: UTF-8
* using option ‘--no-vignettes’
* checking for file ‘microbiomeMarker/DESCRIPTION’ ... OK
* this is package ‘microbiomeMarker’ version ‘1.2.2’
* package encoding: UTF-8
* checking package namespace information ... OK
* checking package dependencies ... OK
* checking if this is a source package ... OK
* checking if there is a namespace ... OK
* checking for hidden files and directories ... OK
* checking for portable file names ... OK
* checking for sufficient/correct file permissions ... OK
* checking whether package ‘microbiomeMarker’ can be installed ... OK
* checking installed package size ... OK
* checking package directory ... OK
* checking ‘build’ directory ... OK
* checking DESCRIPTION meta-information ... OK
* checking top-level files ... OK
* checking for left-over files ... OK
* checking index information ... OK
* checking package subdirectories ... OK
* checking R files for non-ASCII characters ... OK
* checking R files for syntax errors ... OK
* checking whether the package can be loaded ... OK
* checking whether the package can be loaded with stated dependencies ... OK
* checking whether the package can be unloaded cleanly ... OK
* checking whether the namespace can be loaded with stated dependencies ... OK
* checking whether the namespace can be unloaded cleanly ... OK
* checking dependencies in R code ... OK
* checking S3 generic/method consistency ... OK
* checking replacement functions ... OK
* checking foreign function calls ... OK
* checking R code for possible problems ... OK
* checking Rd files ... OK
* checking Rd metadata ... OK
* checking Rd cross-references ... OK
* checking for missing documentation entries ... OK
* checking for code/documentation mismatches ... OK
* checking Rd \usage sections ... OK
* checking Rd contents ... OK
* checking for unstated dependencies in examples ... OK
* checking contents of ‘data’ directory ... OK
* checking data for non-ASCII characters ... OK
* checking data for ASCII and uncompressed saves ... OK
* checking R/sysdata.rda ... OK
* checking files in ‘vignettes’ ... OK
* checking examples ... OK
Examples with CPU (user + system) or elapsed time > 5s
                 user system elapsed
run_aldex      10.381  0.816  11.198
plot_cladogram  8.174  0.176   8.350
run_ancombc     7.097  0.196   7.293
plot_sl_roc     6.021  0.437   6.465
run_deseq2      5.673  0.132   5.805
plot_heatmap    5.569  0.096   5.665
run_lefse       5.394  0.112   5.507
* checking for unstated dependencies in ‘tests’ ... OK
* checking tests ...
  Running ‘testthat.R’
 OK
* checking for unstated dependencies in vignettes ... OK
* checking package vignettes in ‘inst/doc’ ... OK
* checking running R code from vignettes ... SKIPPED
* checking re-building of vignette outputs ... SKIPPED
* checking PDF version of manual ... OK
* DONE

Status: OK


Installation output

microbiomeMarker.Rcheck/00install.out

##############################################################################
##############################################################################
###
### Running command:
###
###   /home/biocbuild/bbs-3.15-bioc/R/bin/R CMD INSTALL microbiomeMarker
###
##############################################################################
##############################################################################


* installing to library ‘/home/biocbuild/bbs-3.15-bioc/R/library’
* installing *source* package ‘microbiomeMarker’ ...
** using staged installation
** R
** data
** inst
** byte-compile and prepare package for lazy loading
** help
*** installing help indices
*** copying figures
** building package indices
** installing vignettes
** testing if installed package can be loaded from temporary location
** testing if installed package can be loaded from final location
** testing if installed package keeps a record of temporary installation path
* DONE (microbiomeMarker)

Tests output

microbiomeMarker.Rcheck/tests/testthat.Rout


R version 4.2.0 (2022-04-22) -- "Vigorous Calisthenics"
Copyright (C) 2022 The R Foundation for Statistical Computing
Platform: x86_64-pc-linux-gnu (64-bit)

R is free software and comes with ABSOLUTELY NO WARRANTY.
You are welcome to redistribute it under certain conditions.
Type 'license()' or 'licence()' for distribution details.

R is a collaborative project with many contributors.
Type 'contributors()' for more information and
'citation()' on how to cite R or R packages in publications.

Type 'demo()' for some demos, 'help()' for on-line help, or
'help.start()' for an HTML browser interface to help.
Type 'q()' to quit R.

> library(testthat)
> library(microbiomeMarker)
> 
> test_check("microbiomeMarker")
operating in serial mode
computing center with all features
New names:
* `` -> `...1`
* `` -> `...2`
* `` -> `...3`
* `` -> `...4`
* `` -> `...5`
* `` -> `...6`
* `` -> `...7`
* `` -> `...8`
* `` -> `...9`
* `` -> `...10`
* `` -> `...11`
* `` -> `...12`
New names:
* `` -> `...1`
* `` -> `...2`
* `` -> `...3`
* `` -> `...4`
* `` -> `...5`
* `` -> `...6`
* `` -> `...7`
* `` -> `...8`
* `` -> `...9`
* `` -> `...10`
* `` -> `...11`
* `` -> `...12`
operating in serial mode
New names:
* `` -> `...1`
* `` -> `...2`
* `` -> `...3`
* `` -> `...4`
* `` -> `...5`
* `` -> `...6`
* `` -> `...7`
* `` -> `...8`
* `` -> `...9`
* `` -> `...10`
* `` -> `...11`
* `` -> `...12`
New names:
* `` -> `...1`
* `` -> `...2`
* `` -> `...3`
* `` -> `...4`
* `` -> `...5`
* `` -> `...6`
* `` -> `...7`
* `` -> `...8`
* `` -> `...9`
* `` -> `...10`
* `` -> `...11`
* `` -> `...12`
New names:
* `` -> `...1`
* `` -> `...2`
* `` -> `...3`
* `` -> `...4`
* `` -> `...5`
* `` -> `...6`
* `` -> `...7`
* `` -> `...8`
* `` -> `...9`
* `` -> `...10`
* `` -> `...11`
* `` -> `...12`
New names:
* `` -> `...1`
* `` -> `...2`
* `` -> `...3`
* `` -> `...4`
* `` -> `...5`
* `` -> `...6`
* `` -> `...7`
* `` -> `...8`
* `` -> `...9`
* `` -> `...10`
* `` -> `...11`
* `` -> `...12`
Found more than one class "phylo" in cache; using the first, from namespace 'phyloseq'
Also defined by 'tidytree'
Found more than one class "phylo" in cache; using the first, from namespace 'phyloseq'
Also defined by 'tidytree'
Found more than one class "phylo" in cache; using the first, from namespace 'phyloseq'
Also defined by 'tidytree'
Found more than one class "phylo" in cache; using the first, from namespace 'phyloseq'
Also defined by 'tidytree'
Found more than one class "phylo" in cache; using the first, from namespace 'phyloseq'
Also defined by 'tidytree'
Found more than one class "phylo" in cache; using the first, from namespace 'phyloseq'
Also defined by 'tidytree'
Found more than one class "phylo" in cache; using the first, from namespace 'phyloseq'
Also defined by 'tidytree'
Found more than one class "phylo" in cache; using the first, from namespace 'phyloseq'
Also defined by 'tidytree'
Found more than one class "phylo" in cache; using the first, from namespace 'phyloseq'
Also defined by 'tidytree'
Found more than one class "phylo" in cache; using the first, from namespace 'phyloseq'
Also defined by 'tidytree'
Found more than one class "phylo" in cache; using the first, from namespace 'phyloseq'
Also defined by 'tidytree'
Found more than one class "phylo" in cache; using the first, from namespace 'phyloseq'
Also defined by 'tidytree'
Found more than one class "phylo" in cache; using the first, from namespace 'phyloseq'
Also defined by 'tidytree'
Found more than one class "phylo" in cache; using the first, from namespace 'phyloseq'
Also defined by 'tidytree'
Found more than one class "phylo" in cache; using the first, from namespace 'phyloseq'
Also defined by 'tidytree'
Found more than one class "phylo" in cache; using the first, from namespace 'phyloseq'
Also defined by 'tidytree'
Found more than one class "phylo" in cache; using the first, from namespace 'phyloseq'
Also defined by 'tidytree'
Found more than one class "phylo" in cache; using the first, from namespace 'phyloseq'
Also defined by 'tidytree'
Found more than one class "phylo" in cache; using the first, from namespace 'phyloseq'
Also defined by 'tidytree'
Found more than one class "phylo" in cache; using the first, from namespace 'phyloseq'
Also defined by 'tidytree'
Found more than one class "phylo" in cache; using the first, from namespace 'phyloseq'
Also defined by 'tidytree'
Found more than one class "phylo" in cache; using the first, from namespace 'phyloseq'
Also defined by 'tidytree'
Found more than one class "phylo" in cache; using the first, from namespace 'phyloseq'
Also defined by 'tidytree'
Found more than one class "phylo" in cache; using the first, from namespace 'phyloseq'
Also defined by 'tidytree'
`set.seed(2020)` was used to initialize repeatable random subsampling.
Please record this for your records so others can reproduce.
Try `set.seed(2020); .Random.seed` for the full vector
...
46OTUs were removed because they are no longer 
present in any sample after random subsampling

...
`set.seed(2020)` was used to initialize repeatable random subsampling.
Please record this for your records so others can reproduce.
Try `set.seed(2020); .Random.seed` for the full vector
...
46OTUs were removed because they are no longer 
present in any sample after random subsampling

...
`set.seed(2020)` was used to initialize repeatable random subsampling.
Please record this for your records so others can reproduce.
Try `set.seed(2020); .Random.seed` for the full vector
...
46OTUs were removed because they are no longer 
present in any sample after random subsampling

...
`set.seed(2020)` was used to initialize repeatable random subsampling.
Please record this for your records so others can reproduce.
Try `set.seed(2020); .Random.seed` for the full vector
...
46OTUs were removed because they are no longer 
present in any sample after random subsampling

...
Default value being used.
Default value being used.
Default value being used.
Default value being used.
converting counts to integer mode
Loading required package: ggplot2
Loading required package: lattice
[ FAIL 0 | WARN 25 | SKIP 8 | PASS 217 ]

══ Skipped tests ═══════════════════════════════════════════════════════════════
• On CRAN (7)
• empty test (1)

[ FAIL 0 | WARN 25 | SKIP 8 | PASS 217 ]
> 
> proc.time()
   user  system elapsed 
 65.506   1.881  67.380 

Example timings

microbiomeMarker.Rcheck/microbiomeMarker-Ex.timings

nameusersystemelapsed
abundances-methods0.0810.0000.081
aggregate_taxa0.3430.0230.368
assign-marker_table2.6370.1002.736
confounder1.6010.0281.629
effect_size-plot2.8570.0642.922
extract_posthoc_res0.1800.0000.181
import_dada20.0630.0040.067
import_picrust20.0330.0000.034
import_qiime20.1670.0240.191
marker_table-methods2.5550.0232.579
microbiomeMarker0.0130.0000.014
nmarker-methods0.0010.0000.002
normalize-methods0.0950.0000.096
phyloseq2DESeq20.4940.0200.514
phyloseq2edgeR0.1250.0120.137
phyloseq2metagenomeSeq0.1590.0000.159
plot_abundance3.5740.0403.614
plot_cladogram8.1740.1768.350
plot_heatmap5.5690.0965.665
plot_postHocTest1.8930.0761.968
plot_sl_roc6.0210.4376.465
postHocTest0.0980.0000.097
run_aldex10.381 0.81611.198
run_ancom000
run_ancombc7.0970.1967.293
run_deseq25.6730.1325.805
run_edger2.6100.0282.638
run_lefse5.3940.1125.507
run_limma_voom2.6410.0392.682
run_metagenomeseq3.3100.0803.391
run_posthoc_test0.5590.0120.571
run_simple_stat2.8400.0322.872
run_sl3.0670.1043.172
run_test_multiple_groups2.8020.0522.854
run_test_two_groups2.8260.0802.906
subset_marker2.4860.0362.521
summarize_taxa0.3200.0080.328
transform_abundances0.1330.0280.161