Back to Multiple platform build/check report for BioC 3.12
ABCDEFGHIJKL[M]NOPQRSTUVWXYZ

BUILD report for microbiomeDASim on tokay1

This page was generated on 2021-01-19 11:55:48 -0500 (Tue, 19 Jan 2021).

TO THE DEVELOPERS/MAINTAINERS OF THE microbiomeDASim PACKAGE: Please make sure to use the following settings in order to reproduce any error or warning you see on this page.
Package 1094/1974HostnameOS / ArchINSTALLBUILDCHECKBUILD BIN
microbiomeDASim 1.4.0
Justin Williams
Snapshot Date: 2021-01-18 14:42:24 -0500 (Mon, 18 Jan 2021)
URL: https://git.bioconductor.org/packages/microbiomeDASim
Branch: RELEASE_3_12
Last Commit: 55fb35a
Last Changed Date: 2020-10-27 11:49:06 -0500 (Tue, 27 Oct 2020)
malbec1 Linux (Ubuntu 18.04.5 LTS) / x86_64  OK  OK  OK UNNEEDED, same version exists in internal repository
nebbiolo1 Linux (Ubuntu 20.04.1 LTS) / x86_64  OK  OK  OK 
tokay1 Windows Server 2012 R2 Standard / x64  OK [ OK ] OK  OK UNNEEDED, same version exists in internal repository
merida1 macOS 10.14.6 Mojave / x86_64  OK  OK  OK  OK UNNEEDED, same version exists in internal repository

Summary

Package: microbiomeDASim
Version: 1.4.0
Command: chmod a+r microbiomeDASim -R && C:\Users\biocbuild\bbs-3.12-bioc\R\bin\R.exe CMD build --keep-empty-dirs --no-resave-data microbiomeDASim
StartedAt: 2021-01-18 22:03:13 -0500 (Mon, 18 Jan 2021)
EndedAt: 2021-01-18 22:04:08 -0500 (Mon, 18 Jan 2021)
EllapsedTime: 54.5 seconds
RetCode: 0
Status:  OK  
PackageFile: microbiomeDASim_1.4.0.tar.gz
PackageFileSize: 1.485 MiB

Command output

##############################################################################
##############################################################################
###
### Running command:
###
###   chmod a+r microbiomeDASim -R && C:\Users\biocbuild\bbs-3.12-bioc\R\bin\R.exe CMD build --keep-empty-dirs --no-resave-data microbiomeDASim
###
##############################################################################
##############################################################################


* checking for file 'microbiomeDASim/DESCRIPTION' ... OK
* preparing 'microbiomeDASim':
* checking DESCRIPTION meta-information ... OK
* installing the package to build vignettes
* creating vignettes ... OK
* checking for LF line-endings in source and make files and shell scripts
* checking for empty or unneeded directories
* building 'microbiomeDASim_1.4.0.tar.gz'