Back to Multiple platform build/check report for BioC 3.12
ABCDEFGHIJKL[M]NOPQRSTUVWXYZ

BUILD BIN report for microbiomeDASim on tokay1

This page was generated on 2021-01-19 11:55:48 -0500 (Tue, 19 Jan 2021).

TO THE DEVELOPERS/MAINTAINERS OF THE microbiomeDASim PACKAGE: Please make sure to use the following settings in order to reproduce any error or warning you see on this page.
Package 1094/1974HostnameOS / ArchINSTALLBUILDCHECKBUILD BIN
microbiomeDASim 1.4.0
Justin Williams
Snapshot Date: 2021-01-18 14:42:24 -0500 (Mon, 18 Jan 2021)
URL: https://git.bioconductor.org/packages/microbiomeDASim
Branch: RELEASE_3_12
Last Commit: 55fb35a
Last Changed Date: 2020-10-27 11:49:06 -0500 (Tue, 27 Oct 2020)
malbec1 Linux (Ubuntu 18.04.5 LTS) / x86_64  OK  OK  OK UNNEEDED, same version exists in internal repository
nebbiolo1 Linux (Ubuntu 20.04.1 LTS) / x86_64  OK  OK  OK 
tokay1 Windows Server 2012 R2 Standard / x64  OK  OK  OK [ OK ]UNNEEDED, same version exists in internal repository
merida1 macOS 10.14.6 Mojave / x86_64  OK  OK  OK  OK UNNEEDED, same version exists in internal repository

Summary

Package: microbiomeDASim
Version: 1.4.0
Command: rm -rf microbiomeDASim.buildbin-libdir && mkdir microbiomeDASim.buildbin-libdir && C:\Users\biocbuild\bbs-3.12-bioc\R\bin\R.exe CMD INSTALL --merge-multiarch --build --library=microbiomeDASim.buildbin-libdir microbiomeDASim_1.4.0.tar.gz
StartedAt: 2021-01-19 10:02:11 -0500 (Tue, 19 Jan 2021)
EndedAt: 2021-01-19 10:02:53 -0500 (Tue, 19 Jan 2021)
EllapsedTime: 41.7 seconds
RetCode: 0
Status:  OK  
PackageFile: microbiomeDASim_1.4.0.zip
PackageFileSize: 1.577 MiB

Command output

##############################################################################
##############################################################################
###
### Running command:
###
###   rm -rf microbiomeDASim.buildbin-libdir && mkdir microbiomeDASim.buildbin-libdir && C:\Users\biocbuild\bbs-3.12-bioc\R\bin\R.exe CMD INSTALL --merge-multiarch --build --library=microbiomeDASim.buildbin-libdir microbiomeDASim_1.4.0.tar.gz
###
##############################################################################
##############################################################################



install for i386

* installing *source* package 'microbiomeDASim' ...
** using staged installation
** R
** inst
** byte-compile and prepare package for lazy loading
** help
*** installing help indices
  converting help for package 'microbiomeDASim'
    finding HTML links ... done
    IP_form_check                           html  
    final_output_gen                        html  
    form_beta_check                         html  
    gen_microbiome_norm_feature_check       html  
    gen_norm_microbiome                     html  
    gen_norm_microbiome_obs                 html  
    ggplot_spaghetti                        html  
    mean_trend                              html  
    mean_trend_beta_vec                     html  
    mean_trend_design_mat                   html  
    mvrnorm_corr_gen                        html  
    mvrnorm_sim                             html  
    mvrnorm_sim_obs                         html  
    sigma_corr_function                     html  
    simulate2MRexperiment                   html  
    finding level-2 HTML links ... done

    simulate2phyloseq                       html  
    timepoint_process                       html  
    trunc_bugs                              html  
** building package indices
** installing vignettes
** testing if installed package can be loaded from temporary location
** testing if installed package can be loaded from final location
** testing if installed package keeps a record of temporary installation path

install for x64

* installing *source* package 'microbiomeDASim' ...
** testing if installed package can be loaded
* MD5 sums
packaged installation of 'microbiomeDASim' as microbiomeDASim_1.4.0.zip
* DONE (microbiomeDASim)