Back to Multiple platform build/check report for BioC 3.12 |
|
This page was generated on 2021-01-19 11:52:11 -0500 (Tue, 19 Jan 2021).
TO THE DEVELOPERS/MAINTAINERS OF THE microbiomeDASim PACKAGE: Please make sure to use the following settings in order to reproduce any error or warning you see on this page. |
Package 1094/1974 | Hostname | OS / Arch | INSTALL | BUILD | CHECK | BUILD BIN | ||||||
microbiomeDASim 1.4.0 Justin Williams
| malbec1 | Linux (Ubuntu 18.04.5 LTS) / x86_64 | OK | [ OK ] | OK | ![]() | ||||||
nebbiolo1 | Linux (Ubuntu 20.04.1 LTS) / x86_64 | OK | OK | OK | ||||||||
tokay1 | Windows Server 2012 R2 Standard / x64 | OK | OK | OK | OK | ![]() | ||||||
merida1 | macOS 10.14.6 Mojave / x86_64 | OK | OK | OK | OK | ![]() |
Package: microbiomeDASim |
Version: 1.4.0 |
Command: /home/biocbuild/bbs-3.12-bioc/R/bin/R CMD build --keep-empty-dirs --no-resave-data microbiomeDASim |
StartedAt: 2021-01-18 20:47:53 -0500 (Mon, 18 Jan 2021) |
EndedAt: 2021-01-18 20:48:36 -0500 (Mon, 18 Jan 2021) |
EllapsedTime: 43.4 seconds |
RetCode: 0 |
Status: OK |
PackageFile: microbiomeDASim_1.4.0.tar.gz |
PackageFileSize: 1.485 MiB |
############################################################################## ############################################################################## ### ### Running command: ### ### /home/biocbuild/bbs-3.12-bioc/R/bin/R CMD build --keep-empty-dirs --no-resave-data microbiomeDASim ### ############################################################################## ############################################################################## * checking for file ‘microbiomeDASim/DESCRIPTION’ ... OK * preparing ‘microbiomeDASim’: * checking DESCRIPTION meta-information ... OK * installing the package to build vignettes * creating vignettes ... OK * checking for LF line-endings in source and make files and shell scripts * checking for empty or unneeded directories * building ‘microbiomeDASim_1.4.0.tar.gz’