Name | Last modified | Size | Description | |
---|---|---|---|---|
Parent Directory | - | |||
buildsrc-out.txt | 01-Jun-2024 06:03 | 816 | ||
buildsrc-summary.dcf | 01-Jun-2024 06:03 | 419 | ||
checksrc-out.txt | 01-Jun-2024 06:03 | 3.2K | ||
checksrc-summary.dcf | 01-Jun-2024 06:03 | 417 | ||
install-out.txt | 01-Jun-2024 06:03 | 1.9K | ||
install-summary.dcf | 01-Jun-2024 06:03 | 261 | ||