Name | Last modified | Size | Description | |
---|---|---|---|---|
Parent Directory | - | |||
install-summary.dcf | 12-Jun-2024 03:44 | 261 | ||
buildsrc-summary.dcf | 12-Jun-2024 03:44 | 416 | ||
checksrc-summary.dcf | 12-Jun-2024 03:44 | 429 | ||
buildbin-summary.dcf | 12-Jun-2024 03:44 | 506 | ||
buildsrc-out.txt | 12-Jun-2024 03:44 | 863 | ||
install-out.txt | 12-Jun-2024 03:44 | 1.0K | ||
buildbin-out.txt | 12-Jun-2024 03:44 | 1.1K | ||
checksrc-out.txt | 12-Jun-2024 03:44 | 10K | ||