Name | Last modified | Size | Description | |
---|---|---|---|---|
Parent Directory | - | |||
checksrc-out.txt | 27-Jul-2024 06:39 | 5.1K | ||
buildbin-out.txt | 27-Jul-2024 06:39 | 4.2K | ||
install-out.txt | 27-Jul-2024 06:39 | 4.1K | ||
buildsrc-out.txt | 27-Jul-2024 06:39 | 922 | ||
buildbin-summary.dcf | 27-Jul-2024 06:39 | 530 | ||
buildsrc-summary.dcf | 27-Jul-2024 06:39 | 463 | ||
checksrc-summary.dcf | 27-Jul-2024 06:39 | 457 | ||
install-summary.dcf | 27-Jul-2024 06:39 | 273 | ||